BEGIN:VCALENDAR
VERSION:2.0
PRODID:-//THE DIAMOND CLUB NYC - ECPv6.15.20//NONSGML v1.0//EN
CALSCALE:GREGORIAN
METHOD:PUBLISH
X-ORIGINAL-URL:https://thediamondclubnyc.com
X-WR-CALDESC:Events for THE DIAMOND CLUB NYC
REFRESH-INTERVAL;VALUE=DURATION:PT1H
X-Robots-Tag:noindex
X-PUBLISHED-TTL:PT1H
BEGIN:VTIMEZONE
TZID:America/Halifax
BEGIN:DAYLIGHT
TZOFFSETFROM:-0400
TZOFFSETTO:-0300
TZNAME:ADT
DTSTART:20250309T060000
END:DAYLIGHT
BEGIN:STANDARD
TZOFFSETFROM:-0300
TZOFFSETTO:-0400
TZNAME:AST
DTSTART:20251102T050000
END:STANDARD
BEGIN:DAYLIGHT
TZOFFSETFROM:-0400
TZOFFSETTO:-0300
TZNAME:ADT
DTSTART:20260308T060000
END:DAYLIGHT
BEGIN:STANDARD
TZOFFSETFROM:-0300
TZOFFSETTO:-0400
TZNAME:AST
DTSTART:20261101T050000
END:STANDARD
BEGIN:DAYLIGHT
TZOFFSETFROM:-0400
TZOFFSETTO:-0300
TZNAME:ADT
DTSTART:20270314T060000
END:DAYLIGHT
BEGIN:STANDARD
TZOFFSETFROM:-0300
TZOFFSETTO:-0400
TZNAME:AST
DTSTART:20271107T050000
END:STANDARD
END:VTIMEZONE
BEGIN:VEVENT
DTSTART;TZID=America/Halifax:20260424T210000
DTEND;TZID=America/Halifax:20260425T040000
DTSTAMP:20260420T005336
CREATED:20260331T152607Z
LAST-MODIFIED:20260331T154627Z
UID:4383-1777064400-1777089600@thediamondclubnyc.com
SUMMARY:Spring Fling Swinger Thing NYC Part 2 – YESS & ICE Anniversary Bash [Intimate & Erotic Edition]  April 24\, 2026
DESCRIPTION:
URL:https://thediamondclubnyc.com/event/spring-fling-swinger-thing-april-24-2026/
LOCATION:THE DIAMOND CLUB NYC\, Tribeca\, New York\, United States
CATEGORIES:Swingers
ATTACH;FMTTYPE=image/jpeg:https://thediamondclubnyc.com/wp-content/uploads/2026/03/spring-fling-swinger-thing-nyc-april-24-2026.jpg
ORGANIZER;CN="THE DIAMOND CLUB NYC":MAILTO:diamondclubnyc30@gmail.com 
END:VEVENT
BEGIN:VEVENT
DTSTART;TZID=America/Halifax:20260425T210000
DTEND;TZID=America/Halifax:20260426T040000
DTSTAMP:20260420T005336
CREATED:20260331T010632Z
LAST-MODIFIED:20260331T010722Z
UID:4334-1777150800-1777176000@thediamondclubnyc.com
SUMMARY:CLOSED FOR A PRIVATE PARTY - SATURDAY APRIL 25TH 2026
DESCRIPTION:
URL:https://thediamondclubnyc.com/event/closed-for-a-private-party-saturday-april-25th-2026/
LOCATION:THE DIAMOND CLUB NYC\, Tribeca\, New York\, United States
CATEGORIES:Swingers
ATTACH;FMTTYPE=image/jpeg:https://thediamondclubnyc.com/wp-content/uploads/2025/07/closed-party.jpg
ORGANIZER;CN="THE DIAMOND CLUB NYC":MAILTO:diamondclubnyc30@gmail.com 
END:VEVENT
BEGIN:VEVENT
DTSTART;TZID=America/Halifax:20260426T200000
DTEND;TZID=America/Halifax:20260427T020000
DTSTAMP:20260420T005336
CREATED:20260331T010030Z
LAST-MODIFIED:20260405T182836Z
UID:4330-1777233600-1777255200@thediamondclubnyc.com
SUMMARY:Spicy Swinger Sundays – Sexy Spring Edition | Come Early\, Leave Happy | April 26\, 2026
DESCRIPTION:
URL:https://thediamondclubnyc.com/event/spicy-swinger-sundays-nyc-april-26-2026/
LOCATION:THE DIAMOND CLUB NYC\, Tribeca\, New York\, United States
CATEGORIES:Swingers
ATTACH;FMTTYPE=image/jpeg:https://thediamondclubnyc.com/wp-content/uploads/2026/02/Spicy-Swinger-Sundays-NYC.jpg
ORGANIZER;CN="THE DIAMOND CLUB NYC":MAILTO:diamondclubnyc30@gmail.com 
END:VEVENT
BEGIN:VEVENT
DTSTART;TZID=America/Halifax:20260429T210000
DTEND;TZID=America/Halifax:20260430T030000
DTSTAMP:20260420T005336
CREATED:20260330T233838Z
LAST-MODIFIED:20260401T163754Z
UID:4300-1777496400-1777518000@thediamondclubnyc.com
SUMMARY:Temptation Wednesdays – Sexy Game Night | Hump Night Debauchery Edition | April 29\, 2026
DESCRIPTION:
URL:https://thediamondclubnyc.com/event/temptation-wednesdays-nyc-april-29-2026/
LOCATION:THE DIAMOND CLUB NYC\, Tribeca\, New York\, United States
CATEGORIES:Swingers
ATTACH;FMTTYPE=image/jpeg:https://thediamondclubnyc.com/wp-content/uploads/2026/01/TEMPTATION-WEDNESDAYS-SEXY-GAME-NIGHT-THE-DIAMOND-CLUB-NYC-1.jpg
ORGANIZER;CN="THE DIAMOND CLUB NYC":MAILTO:diamondclubnyc30@gmail.com 
END:VEVENT
END:VCALENDAR